Name | Last modified | Size | Description | |
---|---|---|---|---|
Parent Directory | - | |||
checksrc-out.txt | 17-Oct-2023 00:37 | 4.5K | ||
buildbin-out.txt | 17-Oct-2023 00:37 | 1.2K | ||
install-out.txt | 17-Oct-2023 00:37 | 1.0K | ||
buildsrc-out.txt | 17-Oct-2023 00:37 | 891 | ||
buildbin-summary.dcf | 17-Oct-2023 00:37 | 547 | ||
checksrc-summary.dcf | 17-Oct-2023 00:37 | 456 | ||
buildsrc-summary.dcf | 17-Oct-2023 00:37 | 434 | ||
install-summary.dcf | 17-Oct-2023 00:37 | 275 | ||