Name | Last modified | Size | Description | |
---|---|---|---|---|
Parent Directory | - | |||
checksrc-out.txt | 17-Oct-2023 00:35 | 3.6K | ||
checksrc-summary.dcf | 17-Oct-2023 00:35 | 408 | ||
buildsrc-summary.dcf | 17-Oct-2023 00:35 | 412 | ||
buildsrc-out.txt | 17-Oct-2023 00:35 | 801 | ||
install-summary.dcf | 17-Oct-2023 00:35 | 256 | ||
install-out.txt | 17-Oct-2023 00:35 | 949 | ||