Name | Last modified | Size | Description | |
---|---|---|---|---|
Parent Directory | - | |||
install-out.txt | 17-Oct-2023 00:36 | 5.2K | ||
install-summary.dcf | 17-Oct-2023 00:36 | 276 | ||
buildsrc-out.txt | 17-Oct-2023 00:36 | 950 | ||
buildsrc-summary.dcf | 17-Oct-2023 00:36 | 467 | ||
checksrc-out.txt | 17-Oct-2023 00:36 | 8.0K | ||
checksrc-summary.dcf | 17-Oct-2023 00:36 | 461 | ||
buildbin-out.txt | 17-Oct-2023 00:36 | 5.4K | ||
buildbin-summary.dcf | 17-Oct-2023 00:36 | 537 | ||