Name | Last modified | Size | Description | |
---|---|---|---|---|
Parent Directory | - | |||
buildsrc-summary.dcf | 17-Oct-2023 00:37 | 351 | ||
buildsrc-out.txt | 17-Oct-2023 00:37 | 1.0K | ||
install-summary.dcf | 17-Oct-2023 00:37 | 276 | ||
install-out.txt | 17-Oct-2023 00:37 | 5.8K | ||
buildbin-summary.dcf | 03-Oct-2023 00:37 | 551 | ||
buildbin-out.txt | 03-Oct-2023 00:37 | 7.9K | ||
checksrc-summary.dcf | 03-Oct-2023 00:37 | 459 | ||
checksrc-out.txt | 03-Oct-2023 00:37 | 7.6K | ||