Name | Last modified | Size | Description | |
---|---|---|---|---|
Parent Directory | - | |||
install-out.txt | 17-Oct-2023 00:36 | 5.9K | ||
install-summary.dcf | 17-Oct-2023 00:36 | 272 | ||
buildsrc-out.txt | 17-Oct-2023 00:36 | 941 | ||
buildsrc-summary.dcf | 17-Oct-2023 00:36 | 460 | ||
checksrc-out.txt | 17-Oct-2023 00:36 | 5.6K | ||
checksrc-summary.dcf | 17-Oct-2023 00:36 | 461 | ||
buildbin-out.txt | 17-Oct-2023 00:36 | 6.0K | ||
buildbin-summary.dcf | 17-Oct-2023 00:36 | 527 | ||