![]() | Name | Last modified | Size | Description |
---|---|---|---|---|
![]() | Parent Directory | - | ||
![]() | buildbin-out.txt | 24-Sep-2023 00:35 | 1.2K | |
![]() | buildbin-summary.dcf | 24-Sep-2023 00:35 | 575 | |
![]() | buildsrc-out.txt | 24-Sep-2023 00:35 | 949 | |
![]() | buildsrc-summary.dcf | 24-Sep-2023 00:35 | 492 | |
![]() | checksrc-out.txt | 24-Sep-2023 00:35 | 3.7K | |
![]() | checksrc-summary.dcf | 24-Sep-2023 00:35 | 487 | |
![]() | install-out.txt | 24-Sep-2023 00:35 | 1.0K | |
![]() | install-summary.dcf | 24-Sep-2023 00:35 | 288 | |