Index of /checkResults/3.17/bioc-LATEST/methylInheritance/raw-results/nebbiolo1

[ICO]NameLast modifiedSizeDescription

[DIR]Parent Directory  -  
[   ]install-summary.dcf21-Sep-2023 01:06 279  
[TXT]install-out.txt21-Sep-2023 01:06 1.0K 
[   ]checksrc-summary.dcf21-Sep-2023 01:06 454  
[TXT]checksrc-out.txt21-Sep-2023 01:06 3.8K 
[   ]buildsrc-summary.dcf21-Sep-2023 01:06 447  
[TXT]buildsrc-out.txt21-Sep-2023 01:06 909