![]() | Name | Last modified | Size | Description |
---|---|---|---|---|
![]() | Parent Directory | - | ||
![]() | install-summary.dcf | 28-Sep-2023 00:37 | 290 | |
![]() | buildsrc-summary.dcf | 28-Sep-2023 00:37 | 456 | |
![]() | checksrc-summary.dcf | 28-Sep-2023 00:37 | 485 | |
![]() | buildbin-summary.dcf | 28-Sep-2023 00:37 | 591 | |
![]() | buildsrc-out.txt | 28-Sep-2023 00:37 | 919 | |
![]() | install-out.txt | 28-Sep-2023 00:37 | 1.0K | |
![]() | buildbin-out.txt | 28-Sep-2023 00:37 | 1.2K | |
![]() | checksrc-out.txt | 28-Sep-2023 00:37 | 3.7K | |