Index of /checkResults/3.17/bioc-LATEST/methylInheritance/raw-results
Name
Last modified
Size
Description
Parent Directory
-
nebbiolo1/
08-Jun-2023 00:05
-
palomino3/
08-Jun-2023 00:06
-
info.dcf
08-Jun-2023 00:07
296
merida1/
08-Jun-2023 00:07
-