Name | Last modified | Size | Description | |
---|---|---|---|---|
Parent Directory | - | |||
buildbin-out.txt | 17-Oct-2023 00:36 | 2.7K | ||
buildbin-summary.dcf | 17-Oct-2023 00:36 | 521 | ||
buildsrc-out.txt | 17-Oct-2023 00:36 | 936 | ||
buildsrc-summary.dcf | 17-Oct-2023 00:36 | 454 | ||
checksrc-out.txt | 17-Oct-2023 00:36 | 6.7K | ||
checksrc-summary.dcf | 17-Oct-2023 00:36 | 456 | ||
install-out.txt | 17-Oct-2023 00:36 | 2.5K | ||
install-summary.dcf | 17-Oct-2023 00:36 | 270 | ||