Index of /checkResults/3.17/bioc-LATEST/metaMS/raw-results

[ICO]NameLast modifiedSizeDescription

[DIR]Parent Directory  -  
[   ]info.dcf05-Oct-2023 00:37 271  
[DIR]merida1/05-Oct-2023 00:37 -  
[DIR]nebbiolo1/05-Oct-2023 00:35 -  
[DIR]palomino3/05-Oct-2023 00:36 -