Name | Last modified | Size | Description | |
---|---|---|---|---|
Parent Directory | - | |||
buildbin-out.txt | 18-Apr-2023 00:03 | 1.2K | ||
buildbin-summary.dcf | 18-Apr-2023 00:03 | 506 | ||
buildsrc-out.txt | 17-Oct-2023 00:36 | 1.3K | ||
buildsrc-summary.dcf | 17-Oct-2023 00:36 | 364 | ||
checksrc-out.txt | 18-Apr-2023 00:03 | 3.3K | ||
checksrc-summary.dcf | 18-Apr-2023 00:03 | 441 | ||
install-out.txt | 17-Oct-2023 00:36 | 1.1K | ||
install-summary.dcf | 17-Oct-2023 00:36 | 265 | ||