Name | Last modified | Size | Description | |
---|---|---|---|---|
Parent Directory | - | |||
buildsrc-out.txt | 17-Oct-2023 00:35 | 1.2K | ||
buildsrc-summary.dcf | 17-Oct-2023 00:35 | 330 | ||
checksrc-out.txt | 18-Apr-2023 00:03 | 3.5K | ||
checksrc-summary.dcf | 18-Apr-2023 00:03 | 408 | ||
install-out.txt | 17-Oct-2023 00:35 | 1.1K | ||
install-summary.dcf | 17-Oct-2023 00:35 | 256 | ||