Name | Last modified | Size | Description | |
---|---|---|---|---|
Parent Directory | - | |||
buildbin-out.txt | 17-Oct-2023 00:36 | 2.2K | ||
buildbin-summary.dcf | 17-Oct-2023 00:36 | 497 | ||
buildsrc-out.txt | 17-Oct-2023 00:36 | 916 | ||
buildsrc-summary.dcf | 17-Oct-2023 00:36 | 440 | ||
checksrc-out.txt | 17-Oct-2023 00:36 | 4.1K | ||
checksrc-summary.dcf | 17-Oct-2023 00:36 | 435 | ||
install-out.txt | 17-Oct-2023 00:36 | 2.0K | ||
install-summary.dcf | 17-Oct-2023 00:36 | 262 | ||