Name | Last modified | Size | Description | |
---|---|---|---|---|
Parent Directory | - | |||
buildbin-out.txt | 17-Oct-2023 00:36 | 1.1K | ||
buildbin-summary.dcf | 17-Oct-2023 00:36 | 520 | ||
buildsrc-out.txt | 17-Oct-2023 00:36 | 881 | ||
buildsrc-summary.dcf | 17-Oct-2023 00:36 | 456 | ||
checksrc-out.txt | 17-Oct-2023 00:36 | 3.1K | ||
checksrc-summary.dcf | 17-Oct-2023 00:36 | 456 | ||
install-out.txt | 17-Oct-2023 00:36 | 965 | ||
install-summary.dcf | 17-Oct-2023 00:36 | 269 | ||