Index of /checkResults/3.17/bioc-LATEST/maanova/raw-results/palomino3
Name
Last modified
Size
Description
Parent Directory
-
buildsrc-out.txt
17-Oct-2023 00:36
5.4K
buildsrc-summary.dcf
17-Oct-2023 00:36
367
install-out.txt
17-Oct-2023 00:36
5.0K
install-summary.dcf
17-Oct-2023 00:36
271