Index of /checkResults/3.17/bioc-LATEST/maanova/raw-results/nebbiolo1
Name
Last modified
Size
Description
Parent Directory
-
buildsrc-out.txt
17-Oct-2023 00:35
5.3K
buildsrc-summary.dcf
17-Oct-2023 00:35
332
install-out.txt
17-Oct-2023 00:35
5.0K
install-summary.dcf
17-Oct-2023 00:35
262