Name | Last modified | Size | Description | |
---|---|---|---|---|
Parent Directory | - | |||
buildbin-out.txt | 10-Nov-2022 03:20 | 4.5K | ||
buildbin-summary.dcf | 10-Nov-2022 03:20 | 530 | ||
buildsrc-out.txt | 17-Oct-2023 00:37 | 5.9K | ||
buildsrc-summary.dcf | 17-Oct-2023 00:37 | 342 | ||
checksrc-out.txt | 10-Nov-2022 03:20 | 4.8K | ||
checksrc-summary.dcf | 10-Nov-2022 03:20 | 449 | ||
install-out.txt | 17-Oct-2023 00:37 | 5.7K | ||
install-summary.dcf | 17-Oct-2023 00:37 | 272 | ||