Name | Last modified | Size | Description | |
---|---|---|---|---|
Parent Directory | - | |||
buildbin-summary.dcf | 17-Oct-2023 00:36 | 524 | ||
buildbin-out.txt | 17-Oct-2023 00:36 | 1.1K | ||
checksrc-out.txt | 17-Oct-2023 00:36 | 4.6K | ||
checksrc-summary.dcf | 17-Oct-2023 00:36 | 453 | ||
buildsrc-summary.dcf | 17-Oct-2023 00:36 | 459 | ||
buildsrc-out.txt | 17-Oct-2023 00:36 | 848 | ||
install-summary.dcf | 17-Oct-2023 00:36 | 271 | ||
install-out.txt | 17-Oct-2023 00:36 | 968 | ||