Index of /checkResults/3.17/bioc-LATEST/lineagespot/raw-results

[ICO]NameLast modifiedSizeDescription

[DIR]Parent Directory  -  
[   ]info.dcf04-Jun-2023 03:38 300  
[DIR]merida1/04-Jun-2023 03:38 -  
[DIR]nebbiolo1/04-Jun-2023 03:36 -  
[DIR]palomino3/04-Jun-2023 03:37 -