Name | Last modified | Size | Description | |
---|---|---|---|---|
Parent Directory | - | |||
buildbin-out.txt | 17-Oct-2023 00:37 | 4.7K | ||
buildbin-summary.dcf | 17-Oct-2023 00:37 | 512 | ||
buildsrc-out.txt | 17-Oct-2023 00:37 | 961 | ||
buildsrc-summary.dcf | 17-Oct-2023 00:37 | 419 | ||
checksrc-out.txt | 17-Oct-2023 00:37 | 3.8K | ||
checksrc-summary.dcf | 17-Oct-2023 00:37 | 432 | ||
install-out.txt | 17-Oct-2023 00:37 | 2.7K | ||
install-summary.dcf | 17-Oct-2023 00:37 | 263 | ||