Name | Last modified | Size | Description | |
---|---|---|---|---|
Parent Directory | - | |||
buildsrc-out.txt | 17-Oct-2023 00:35 | 853 | ||
buildsrc-summary.dcf | 17-Oct-2023 00:35 | 403 | ||
checksrc-out.txt | 17-Oct-2023 00:35 | 4.5K | ||
checksrc-summary.dcf | 17-Oct-2023 00:35 | 397 | ||
install-out.txt | 17-Oct-2023 00:35 | 940 | ||
install-summary.dcf | 17-Oct-2023 00:35 | 251 | ||