![]() | Name | Last modified | Size | Description |
---|---|---|---|---|
![]() | Parent Directory | - | ||
![]() | buildbin-out.txt | 05-Oct-2023 00:37 | 1.2K | |
![]() | buildbin-summary.dcf | 05-Oct-2023 00:37 | 555 | |
![]() | buildsrc-out.txt | 05-Oct-2023 00:37 | 895 | |
![]() | buildsrc-summary.dcf | 05-Oct-2023 00:37 | 440 | |
![]() | checksrc-out.txt | 05-Oct-2023 00:37 | 4.3K | |
![]() | checksrc-summary.dcf | 05-Oct-2023 00:37 | 461 | |
![]() | install-out.txt | 05-Oct-2023 00:37 | 1.0K | |
![]() | install-summary.dcf | 05-Oct-2023 00:37 | 278 | |