Index of /checkResults/3.17/bioc-LATEST/karyoploteR/raw-results
Name
Last modified
Size
Description
Parent Directory
-
info.dcf
28-Sep-2023 00:37
270
merida1/
28-Sep-2023 00:37
-
nebbiolo1/
28-Sep-2023 00:35
-
palomino3/
28-Sep-2023 00:36
-