Name | Last modified | Size | Description | |
---|---|---|---|---|
Parent Directory | - | |||
install-summary.dcf | 17-Oct-2023 00:35 | 268 | ||
install-out.txt | 17-Oct-2023 00:35 | 967 | ||
checksrc-summary.dcf | 17-Oct-2023 00:35 | 433 | ||
checksrc-out.txt | 17-Oct-2023 00:35 | 4.7K | ||
buildsrc-summary.dcf | 17-Oct-2023 00:35 | 430 | ||
buildsrc-out.txt | 17-Oct-2023 00:35 | 889 | ||