Name | Last modified | Size | Description | |
---|---|---|---|---|
Parent Directory | - | |||
checksrc-out.txt | 17-Oct-2023 00:35 | 11K | ||
install-out.txt | 17-Oct-2023 00:35 | 1.4K | ||
buildsrc-out.txt | 17-Oct-2023 00:35 | 1.3K | ||
checksrc-summary.dcf | 17-Oct-2023 00:35 | 458 | ||
buildsrc-summary.dcf | 17-Oct-2023 00:35 | 450 | ||
install-summary.dcf | 17-Oct-2023 00:35 | 281 | ||