Index of /checkResults/3.17/bioc-LATEST/infercnv/raw-results/nebbiolo1

[ICO]NameLast modifiedSizeDescription

[DIR]Parent Directory  -  
[TXT]checksrc-out.txt17-Oct-2023 00:35 3.8K 
[TXT]install-out.txt17-Oct-2023 00:35 1.0K 
[TXT]buildsrc-out.txt17-Oct-2023 00:35 857  
[   ]buildsrc-summary.dcf17-Oct-2023 00:35 421  
[   ]checksrc-summary.dcf17-Oct-2023 00:35 418  
[   ]install-summary.dcf17-Oct-2023 00:35 261