Index of /checkResults/3.17/bioc-LATEST/imageHTS/raw-results/palomino3
Name
Last modified
Size
Description
Parent Directory
-
buildsrc-out.txt
17-Oct-2023 00:36
2.5K
buildsrc-summary.dcf
17-Oct-2023 00:36
371
install-out.txt
17-Oct-2023 00:36
965
install-summary.dcf
17-Oct-2023 00:36
270