Name | Last modified | Size | Description | |
---|---|---|---|---|
Parent Directory | - | |||
buildbin-out.txt | 17-Oct-2023 00:37 | 3.6K | ||
buildbin-summary.dcf | 17-Oct-2023 00:37 | 511 | ||
buildsrc-out.txt | 17-Oct-2023 00:37 | 834 | ||
buildsrc-summary.dcf | 17-Oct-2023 00:37 | 418 | ||
checksrc-out.txt | 17-Oct-2023 00:37 | 3.7K | ||
checksrc-summary.dcf | 17-Oct-2023 00:37 | 431 | ||
install-out.txt | 17-Oct-2023 00:37 | 1.7K | ||
install-summary.dcf | 17-Oct-2023 00:37 | 263 | ||