Name | Last modified | Size | Description | |
---|---|---|---|---|
Parent Directory | - | |||
install-out.txt | 17-Oct-2023 00:37 | 1.0K | ||
install-summary.dcf | 17-Oct-2023 00:37 | 264 | ||
buildsrc-out.txt | 17-Oct-2023 00:37 | 804 | ||
buildsrc-summary.dcf | 17-Oct-2023 00:37 | 419 | ||
checksrc-out.txt | 17-Oct-2023 00:37 | 3.7K | ||
checksrc-summary.dcf | 17-Oct-2023 00:37 | 432 | ||
buildbin-out.txt | 17-Oct-2023 00:37 | 1.1K | ||
buildbin-summary.dcf | 17-Oct-2023 00:37 | 513 | ||