Name | Last modified | Size | Description | |
---|---|---|---|---|
Parent Directory | - | |||
install-summary.dcf | 17-Oct-2023 00:35 | 253 | ||
checksrc-summary.dcf | 17-Oct-2023 00:35 | 408 | ||
buildsrc-summary.dcf | 17-Oct-2023 00:35 | 409 | ||
buildsrc-out.txt | 17-Oct-2023 00:35 | 887 | ||
install-out.txt | 17-Oct-2023 00:35 | 3.2K | ||
checksrc-out.txt | 17-Oct-2023 00:35 | 7.6K | ||