Name | Last modified | Size | Description | |
---|---|---|---|---|
Parent Directory | - | |||
buildsrc-summary.dcf | 17-Oct-2023 00:37 | 344 | ||
buildsrc-out.txt | 17-Oct-2023 00:37 | 1.1K | ||
install-summary.dcf | 17-Oct-2023 00:37 | 270 | ||
install-out.txt | 17-Oct-2023 00:37 | 1.0K | ||
buildbin-summary.dcf | 03-Oct-2023 00:37 | 531 | ||
buildbin-out.txt | 03-Oct-2023 00:37 | 1.2K | ||
checksrc-summary.dcf | 03-Oct-2023 00:37 | 445 | ||
checksrc-out.txt | 03-Oct-2023 00:37 | 5.2K | ||