Name | Last modified | Size | Description | |
---|---|---|---|---|
Parent Directory | - | |||
install-summary.dcf | 17-Oct-2023 00:36 | 264 | ||
install-out.txt | 17-Oct-2023 00:36 | 1.5K | ||
buildsrc-out.txt | 17-Oct-2023 00:36 | 921 | ||
buildsrc-summary.dcf | 17-Oct-2023 00:36 | 444 | ||
checksrc-out.txt | 17-Oct-2023 00:36 | 4.5K | ||
checksrc-summary.dcf | 17-Oct-2023 00:36 | 438 | ||
buildbin-out.txt | 17-Oct-2023 00:36 | 1.6K | ||
buildbin-summary.dcf | 17-Oct-2023 00:36 | 503 | ||