Name | Last modified | Size | Description | |
---|---|---|---|---|
Parent Directory | - | |||
install-out.txt | 17-Oct-2023 00:36 | 14K | ||
install-summary.dcf | 17-Oct-2023 00:36 | 272 | ||
buildsrc-out.txt | 17-Oct-2023 00:36 | 881 | ||
buildsrc-summary.dcf | 17-Oct-2023 00:36 | 461 | ||
checksrc-out.txt | 17-Oct-2023 00:36 | 5.1K | ||
checksrc-summary.dcf | 17-Oct-2023 00:36 | 459 | ||
buildbin-out.txt | 17-Oct-2023 00:36 | 14K | ||
buildbin-summary.dcf | 17-Oct-2023 00:36 | 527 | ||