Name | Last modified | Size | Description | |
---|---|---|---|---|
Parent Directory | - | |||
checksrc-out.txt | 17-Oct-2023 00:37 | 9.3K | ||
buildbin-out.txt | 17-Oct-2023 00:37 | 1.6K | ||
install-out.txt | 17-Oct-2023 00:37 | 1.4K | ||
buildsrc-out.txt | 17-Oct-2023 00:37 | 808 | ||
buildbin-summary.dcf | 17-Oct-2023 00:37 | 519 | ||
checksrc-summary.dcf | 17-Oct-2023 00:37 | 443 | ||
buildsrc-summary.dcf | 17-Oct-2023 00:37 | 420 | ||
install-summary.dcf | 17-Oct-2023 00:37 | 266 | ||