Name | Last modified | Size | Description | |
---|---|---|---|---|
Parent Directory | - | |||
install-out.txt | 17-Oct-2023 00:37 | 1.0K | ||
install-summary.dcf | 17-Oct-2023 00:37 | 290 | ||
buildsrc-out.txt | 17-Oct-2023 00:37 | 922 | ||
buildsrc-summary.dcf | 17-Oct-2023 00:37 | 459 | ||
checksrc-out.txt | 17-Oct-2023 00:37 | 7.8K | ||
checksrc-summary.dcf | 17-Oct-2023 00:37 | 486 | ||
buildbin-out.txt | 17-Oct-2023 00:37 | 1.2K | ||
buildbin-summary.dcf | 17-Oct-2023 00:37 | 593 | ||