![]() | Name | Last modified | Size | Description |
---|---|---|---|---|
![]() | Parent Directory | - | ||
![]() | buildsrc-out.txt | 30-Sep-2023 00:35 | 1.2K | |
![]() | buildsrc-summary.dcf | 30-Sep-2023 00:35 | 426 | |
![]() | checksrc-out.txt | 30-Sep-2023 00:35 | 5.2K | |
![]() | checksrc-summary.dcf | 30-Sep-2023 00:35 | 432 | |
![]() | install-out.txt | 30-Sep-2023 00:35 | 2.1K | |
![]() | install-summary.dcf | 30-Sep-2023 00:35 | 265 | |