Index of /checkResults/3.17/bioc-LATEST/genefu/raw-results/palomino3

[ICO]NameLast modifiedSizeDescription

[DIR]Parent Directory  -  
[TXT]buildbin-out.txt10-Jun-2023 00:06 1.1K 
[   ]buildbin-summary.dcf10-Jun-2023 00:06 509  
[TXT]buildsrc-out.txt10-Jun-2023 00:06 894  
[   ]buildsrc-summary.dcf10-Jun-2023 00:06 449  
[TXT]checksrc-out.txt10-Jun-2023 00:06 3.7K 
[   ]checksrc-summary.dcf10-Jun-2023 00:06 443  
[TXT]install-out.txt10-Jun-2023 00:06 968  
[   ]install-summary.dcf10-Jun-2023 00:06 266