![]() | Name | Last modified | Size | Description |
---|---|---|---|---|
![]() | Parent Directory | - | ||
![]() | install-summary.dcf | 04-Oct-2023 00:37 | 267 | |
![]() | install-out.txt | 04-Oct-2023 00:37 | 1.0K | |
![]() | checksrc-summary.dcf | 04-Oct-2023 00:37 | 440 | |
![]() | checksrc-out.txt | 04-Oct-2023 00:37 | 3.8K | |
![]() | buildsrc-summary.dcf | 04-Oct-2023 00:37 | 425 | |
![]() | buildsrc-out.txt | 04-Oct-2023 00:37 | 875 | |
![]() | buildbin-summary.dcf | 04-Oct-2023 00:37 | 524 | |
![]() | buildbin-out.txt | 04-Oct-2023 00:37 | 1.1K | |