Name | Last modified | Size | Description | |
---|---|---|---|---|
Parent Directory | - | |||
install-summary.dcf | 17-Oct-2023 00:36 | 276 | ||
buildsrc-summary.dcf | 17-Oct-2023 00:36 | 467 | ||
checksrc-summary.dcf | 17-Oct-2023 00:36 | 469 | ||
buildbin-summary.dcf | 17-Oct-2023 00:36 | 539 | ||
buildsrc-out.txt | 17-Oct-2023 00:36 | 801 | ||
install-out.txt | 17-Oct-2023 00:36 | 3.1K | ||
buildbin-out.txt | 17-Oct-2023 00:36 | 3.2K | ||
checksrc-out.txt | 17-Oct-2023 00:36 | 8.0K | ||