Name | Last modified | Size | Description | |
---|---|---|---|---|
Parent Directory | - | |||
install-summary.dcf | 17-Oct-2023 00:35 | 267 | ||
install-out.txt | 17-Oct-2023 00:35 | 4.3K | ||
checksrc-summary.dcf | 17-Oct-2023 00:35 | 436 | ||
checksrc-out.txt | 17-Oct-2023 00:35 | 8.5K | ||
buildsrc-summary.dcf | 17-Oct-2023 00:35 | 428 | ||
buildsrc-out.txt | 17-Oct-2023 00:35 | 765 | ||