Name | Last modified | Size | Description | |
---|---|---|---|---|
Parent Directory | - | |||
install-summary.dcf | 17-Oct-2023 00:35 | 256 | ||
install-out.txt | 17-Oct-2023 00:35 | 1.8K | ||
checksrc-summary.dcf | 17-Oct-2023 00:35 | 409 | ||
checksrc-out.txt | 17-Oct-2023 00:35 | 7.4K | ||
buildsrc-summary.dcf | 17-Oct-2023 00:35 | 413 | ||
buildsrc-out.txt | 17-Oct-2023 00:35 | 802 | ||