![]() | Name | Last modified | Size | Description |
---|---|---|---|---|
![]() | Parent Directory | - | ||
![]() | buildsrc-out.txt | 17-Oct-2023 00:35 | 813 | |
![]() | buildsrc-summary.dcf | 17-Oct-2023 00:35 | 421 | |
![]() | checksrc-out.txt | 17-Oct-2023 00:35 | 9.3K | |
![]() | checksrc-summary.dcf | 17-Oct-2023 00:35 | 420 | |
![]() | install-out.txt | 17-Oct-2023 00:35 | 1.0K | |
![]() | install-summary.dcf | 17-Oct-2023 00:35 | 262 | |