![]() | Name | Last modified | Size | Description |
---|---|---|---|---|
![]() | Parent Directory | - | ||
![]() | buildbin-out.txt | 17-Oct-2023 00:37 | 1.2K | |
![]() | buildbin-summary.dcf | 17-Oct-2023 00:37 | 539 | |
![]() | buildsrc-out.txt | 17-Oct-2023 00:37 | 823 | |
![]() | buildsrc-summary.dcf | 17-Oct-2023 00:37 | 432 | |
![]() | checksrc-out.txt | 17-Oct-2023 00:37 | 9.1K | |
![]() | checksrc-summary.dcf | 17-Oct-2023 00:37 | 450 | |
![]() | install-out.txt | 17-Oct-2023 00:37 | 1.0K | |
![]() | install-summary.dcf | 17-Oct-2023 00:37 | 272 | |