![]() | Name | Last modified | Size | Description |
---|---|---|---|---|
![]() | Parent Directory | - | ||
![]() | buildsrc-out.txt | 24-Sep-2023 00:34 | 1.2K | |
![]() | buildsrc-summary.dcf | 24-Sep-2023 00:34 | 435 | |
![]() | checksrc-out.txt | 24-Sep-2023 00:34 | 17K | |
![]() | checksrc-summary.dcf | 24-Sep-2023 00:34 | 444 | |
![]() | install-out.txt | 24-Sep-2023 00:34 | 2.3M | |
![]() | install-summary.dcf | 24-Sep-2023 00:34 | 272 | |