![]() | Name | Last modified | Size | Description |
---|---|---|---|---|
![]() | Parent Directory | - | ||
![]() | buildbin-out.txt | 05-Oct-2023 00:37 | 30K | |
![]() | buildbin-summary.dcf | 05-Oct-2023 00:37 | 563 | |
![]() | buildsrc-out.txt | 05-Oct-2023 00:37 | 1.2K | |
![]() | buildsrc-summary.dcf | 05-Oct-2023 00:37 | 446 | |
![]() | checksrc-out.txt | 05-Oct-2023 00:37 | 17K | |
![]() | checksrc-summary.dcf | 05-Oct-2023 00:37 | 474 | |
![]() | install-out.txt | 05-Oct-2023 00:37 | 27K | |
![]() | install-summary.dcf | 05-Oct-2023 00:37 | 282 | |