Name | Last modified | Size | Description | |
---|---|---|---|---|
Parent Directory | - | |||
buildbin-out.txt | 17-Oct-2023 00:36 | 1.1K | ||
buildbin-summary.dcf | 17-Oct-2023 00:36 | 515 | ||
buildsrc-out.txt | 17-Oct-2023 00:36 | 876 | ||
buildsrc-summary.dcf | 17-Oct-2023 00:36 | 452 | ||
checksrc-out.txt | 17-Oct-2023 00:36 | 5.8K | ||
checksrc-summary.dcf | 17-Oct-2023 00:36 | 452 | ||
install-out.txt | 17-Oct-2023 00:36 | 962 | ||
install-summary.dcf | 17-Oct-2023 00:36 | 268 | ||