Name | Last modified | Size | Description | |
---|---|---|---|---|
Parent Directory | - | |||
checksrc-out.txt | 17-Oct-2023 00:36 | 4.8K | ||
buildbin-out.txt | 17-Oct-2023 00:36 | 1.1K | ||
install-out.txt | 17-Oct-2023 00:36 | 1.0K | ||
buildsrc-out.txt | 17-Oct-2023 00:36 | 921 | ||
buildbin-summary.dcf | 17-Oct-2023 00:36 | 527 | ||
buildsrc-summary.dcf | 17-Oct-2023 00:36 | 459 | ||
checksrc-summary.dcf | 17-Oct-2023 00:36 | 455 | ||
install-summary.dcf | 17-Oct-2023 00:36 | 272 | ||