Name | Last modified | Size | Description | |
---|---|---|---|---|
Parent Directory | - | |||
install-out.txt | 17-Oct-2023 00:37 | 1.0K | ||
install-summary.dcf | 17-Oct-2023 00:37 | 274 | ||
buildsrc-out.txt | 17-Oct-2023 00:37 | 894 | ||
buildsrc-summary.dcf | 17-Oct-2023 00:37 | 434 | ||
checksrc-summary.dcf | 17-Oct-2023 00:37 | 452 | ||
checksrc-out.txt | 17-Oct-2023 00:37 | 5.0K | ||
buildbin-out.txt | 17-Oct-2023 00:37 | 1.2K | ||
buildbin-summary.dcf | 17-Oct-2023 00:37 | 543 | ||