Name | Last modified | Size | Description | |
---|---|---|---|---|
Parent Directory | - | |||
install-out.txt | 17-Oct-2023 00:35 | 951 | ||
install-summary.dcf | 17-Oct-2023 00:35 | 253 | ||
buildsrc-out.txt | 17-Oct-2023 00:35 | 889 | ||
buildsrc-summary.dcf | 17-Oct-2023 00:35 | 406 | ||
checksrc-out.txt | 17-Oct-2023 00:35 | 4.3K | ||
checksrc-summary.dcf | 17-Oct-2023 00:35 | 402 | ||